BEGIN:VCALENDAR
VERSION:2.0
PRODID:-//Eventin//Event Calendar//EN
CALSCALE:GREGORIAN
METHOD:PUBLISH
BEGIN:VEVENT
UID:b89287a1c5244a9696fefb3311da4073@alqymia7.com
SUMMARY:VERANO BRINCA BRINCA
DESCRIPTION:La Diversión de altura para toda la familia llega a #Celaya.\n
 \nPasa un espectacular día en familia en nuestras diferentes zonas.\n\n\nZ
 ONA EN MOVIMIENTO: Brincolines con retos físicos para diferentes edades.\n
 ZONA RACE: Carrera de obstaculos en familia\nZONA INTERACTIVA: Batalla de h
 idrogel en familia\nZONA INTERACTIVA: Diseño de pintura neón escucha mús
 ica y saca a tu pintor interno\nZONA INMERSIVA: Muchas burbujas\nZONA CREAT
 IVA: Taller de #Arte y #pintura . \nZONA FAMILIAR: #foodtrucks bebidas\, p
 ostres y área comercial\n \n\n\n 
LOCATION:Parque Fundadores\,  Celaya Guanajuato
DTSTAMP:20260419T161156Z
DTSTART:20260809T160000Z
DTEND:20260810T040000Z
END:VEVENT
END:VCALENDAR
